BEGIN:VCALENDAR
VERSION:2.0
PRODID:-//Salem Church - ECPv6.15.20//NONSGML v1.0//EN
CALSCALE:GREGORIAN
METHOD:PUBLISH
X-ORIGINAL-URL:https://wearesalemchurch.com
X-WR-CALDESC:Events for Salem Church
REFRESH-INTERVAL;VALUE=DURATION:PT1H
X-Robots-Tag:noindex
X-PUBLISHED-TTL:PT1H
BEGIN:VTIMEZONE
TZID:America/New_York
BEGIN:DAYLIGHT
TZOFFSETFROM:-0500
TZOFFSETTO:-0400
TZNAME:EDT
DTSTART:20230312T070000
END:DAYLIGHT
BEGIN:STANDARD
TZOFFSETFROM:-0400
TZOFFSETTO:-0500
TZNAME:EST
DTSTART:20231105T060000
END:STANDARD
BEGIN:DAYLIGHT
TZOFFSETFROM:-0500
TZOFFSETTO:-0400
TZNAME:EDT
DTSTART:20240310T070000
END:DAYLIGHT
BEGIN:STANDARD
TZOFFSETFROM:-0400
TZOFFSETTO:-0500
TZNAME:EST
DTSTART:20241103T060000
END:STANDARD
BEGIN:DAYLIGHT
TZOFFSETFROM:-0500
TZOFFSETTO:-0400
TZNAME:EDT
DTSTART:20250309T070000
END:DAYLIGHT
BEGIN:STANDARD
TZOFFSETFROM:-0400
TZOFFSETTO:-0500
TZNAME:EST
DTSTART:20251102T060000
END:STANDARD
BEGIN:DAYLIGHT
TZOFFSETFROM:-0500
TZOFFSETTO:-0400
TZNAME:EDT
DTSTART:20260308T070000
END:DAYLIGHT
BEGIN:STANDARD
TZOFFSETFROM:-0400
TZOFFSETTO:-0500
TZNAME:EST
DTSTART:20261101T060000
END:STANDARD
END:VTIMEZONE
BEGIN:VEVENT
DTSTART;TZID=America/New_York:20250518T180000
DTEND;TZID=America/New_York:20250518T200000
DTSTAMP:20260421T183236
CREATED:20240803T204049Z
LAST-MODIFIED:20240903T200157Z
UID:10004151-1747591200-1747598400@wearesalemchurch.com
SUMMARY:Trail Life & American Heritage Girls troop meeting
DESCRIPTION:
URL:https://wearesalemchurch.com/event/trail-life-american-heritage-girls-troop-meeting/2025-05-18/
LOCATION:Salem Church\, 2150 Old U.S. 22\, Lenhartsville\, Pennsylvania\, 19534\, United States
ATTACH;FMTTYPE=image/jpeg:https://wearesalemchurch.com/wp-content/uploads/2024/08/September-TLAHG-Grphic.jpg
END:VEVENT
BEGIN:VEVENT
DTSTART;TZID=America/New_York:20250504T180000
DTEND;TZID=America/New_York:20250504T200000
DTSTAMP:20260421T183236
CREATED:20240803T204049Z
LAST-MODIFIED:20240903T200157Z
UID:10004150-1746381600-1746388800@wearesalemchurch.com
SUMMARY:Trail Life & American Heritage Girls troop meeting
DESCRIPTION:
URL:https://wearesalemchurch.com/event/trail-life-american-heritage-girls-troop-meeting/2025-05-04/
LOCATION:Salem Church\, 2150 Old U.S. 22\, Lenhartsville\, Pennsylvania\, 19534\, United States
ATTACH;FMTTYPE=image/jpeg:https://wearesalemchurch.com/wp-content/uploads/2024/08/September-TLAHG-Grphic.jpg
END:VEVENT
BEGIN:VEVENT
DTSTART;TZID=America/New_York:20250406T180000
DTEND;TZID=America/New_York:20250406T200000
DTSTAMP:20260421T183236
CREATED:20240803T204049Z
LAST-MODIFIED:20240903T200157Z
UID:10004149-1743962400-1743969600@wearesalemchurch.com
SUMMARY:Trail Life & American Heritage Girls troop meeting
DESCRIPTION:
URL:https://wearesalemchurch.com/event/trail-life-american-heritage-girls-troop-meeting/2025-04-06/
LOCATION:Salem Church\, 2150 Old U.S. 22\, Lenhartsville\, Pennsylvania\, 19534\, United States
ATTACH;FMTTYPE=image/jpeg:https://wearesalemchurch.com/wp-content/uploads/2024/08/September-TLAHG-Grphic.jpg
END:VEVENT
BEGIN:VEVENT
DTSTART;VALUE=DATE:20250328
DTEND;VALUE=DATE:20250401
DTSTAMP:20260421T183236
CREATED:20250305T212024Z
LAST-MODIFIED:20250305T212024Z
UID:10005051-1743120000-1743465599@wearesalemchurch.com
SUMMARY:Trail Life & American Heritage Girls: Spring Campout
DESCRIPTION:
URL:https://wearesalemchurch.com/event/trail-life-american-heritage-girls-spring-campout/
LOCATION:Twin Pines Camp\, 3000 Twin Pines Camp Road\, Stroudsburg\, PA\, 18360\, United States
ATTACH;FMTTYPE=image/jpeg:https://wearesalemchurch.com/wp-content/uploads/2024/08/September-TLAHG-Grphic.jpg
END:VEVENT
BEGIN:VEVENT
DTSTART;TZID=America/New_York:20250316T180000
DTEND;TZID=America/New_York:20250316T200000
DTSTAMP:20260421T183236
CREATED:20240803T204049Z
LAST-MODIFIED:20240903T200157Z
UID:10004148-1742148000-1742155200@wearesalemchurch.com
SUMMARY:Trail Life & American Heritage Girls troop meeting
DESCRIPTION:
URL:https://wearesalemchurch.com/event/trail-life-american-heritage-girls-troop-meeting/2025-03-16/
LOCATION:Salem Church\, 2150 Old U.S. 22\, Lenhartsville\, Pennsylvania\, 19534\, United States
ATTACH;FMTTYPE=image/jpeg:https://wearesalemchurch.com/wp-content/uploads/2024/08/September-TLAHG-Grphic.jpg
END:VEVENT
BEGIN:VEVENT
DTSTART;TZID=America/New_York:20250302T150000
DTEND;TZID=America/New_York:20250302T173000
DTSTAMP:20260421T183236
CREATED:20250129T140044Z
LAST-MODIFIED:20250129T140048Z
UID:10004147-1740927600-1740936600@wearesalemchurch.com
SUMMARY:Trail Life & American Heritage Girls: Range Day
DESCRIPTION:
URL:https://wearesalemchurch.com/event/trail-life-american-heritage-girls-troop-meeting-4/
LOCATION:Salem Church\, 2150 Old U.S. 22\, Lenhartsville\, Pennsylvania\, 19534\, United States
ATTACH;FMTTYPE=image/jpeg:https://wearesalemchurch.com/wp-content/uploads/2024/08/September-TLAHG-Grphic.jpg
END:VEVENT
BEGIN:VEVENT
DTSTART;TZID=America/New_York:20250216T180000
DTEND;TZID=America/New_York:20250216T200000
DTSTAMP:20260421T183236
CREATED:20240803T204049Z
LAST-MODIFIED:20240903T200157Z
UID:10004146-1739728800-1739736000@wearesalemchurch.com
SUMMARY:Trail Life & American Heritage Girls troop meeting
DESCRIPTION:
URL:https://wearesalemchurch.com/event/trail-life-american-heritage-girls-troop-meeting/2025-02-16/
LOCATION:Salem Church\, 2150 Old U.S. 22\, Lenhartsville\, Pennsylvania\, 19534\, United States
ATTACH;FMTTYPE=image/jpeg:https://wearesalemchurch.com/wp-content/uploads/2024/08/September-TLAHG-Grphic.jpg
END:VEVENT
BEGIN:VEVENT
DTSTART;TZID=America/New_York:20250202T150000
DTEND;TZID=America/New_York:20250202T180000
DTSTAMP:20260421T183236
CREATED:20250128T212353Z
LAST-MODIFIED:20250128T213820Z
UID:10004145-1738508400-1738519200@wearesalemchurch.com
SUMMARY:Trail Life & American Heritage Girls: Reading Royals
DESCRIPTION:TL/AHG families have the option to attend a Reading Royals Hockey Game at 3 PM.  Discount tickets are available\, see Cori or Jake Dixon for more information.  This event will be in place of the normal meeting. Please wear Class As for this event.
URL:https://wearesalemchurch.com/event/trail-life-american-heritage-girls-troop-meeting-3/
LOCATION:Santander Arena\, 700 Penn St\, Reading\, PA\, 19602\, United States
ATTACH;FMTTYPE=image/jpeg:https://wearesalemchurch.com/wp-content/uploads/2024/08/September-TLAHG-Grphic.jpg
END:VEVENT
BEGIN:VEVENT
DTSTART;TZID=America/New_York:20250119T180000
DTEND;TZID=America/New_York:20250119T200000
DTSTAMP:20260421T183236
CREATED:20240803T204049Z
LAST-MODIFIED:20240903T200157Z
UID:10004144-1737309600-1737316800@wearesalemchurch.com
SUMMARY:Trail Life & American Heritage Girls troop meeting
DESCRIPTION:
URL:https://wearesalemchurch.com/event/trail-life-american-heritage-girls-troop-meeting/2025-01-19/
LOCATION:Salem Church\, 2150 Old U.S. 22\, Lenhartsville\, Pennsylvania\, 19534\, United States
ATTACH;FMTTYPE=image/jpeg:https://wearesalemchurch.com/wp-content/uploads/2024/08/September-TLAHG-Grphic.jpg
END:VEVENT
BEGIN:VEVENT
DTSTART;TZID=America/New_York:20250105T180000
DTEND;TZID=America/New_York:20250105T200000
DTSTAMP:20260421T183236
CREATED:20240803T204049Z
LAST-MODIFIED:20240903T200157Z
UID:10004143-1736100000-1736107200@wearesalemchurch.com
SUMMARY:Trail Life & American Heritage Girls troop meeting
DESCRIPTION:
URL:https://wearesalemchurch.com/event/trail-life-american-heritage-girls-troop-meeting/2025-01-05/
LOCATION:Salem Church\, 2150 Old U.S. 22\, Lenhartsville\, Pennsylvania\, 19534\, United States
ATTACH;FMTTYPE=image/jpeg:https://wearesalemchurch.com/wp-content/uploads/2024/08/September-TLAHG-Grphic.jpg
END:VEVENT
BEGIN:VEVENT
DTSTART;TZID=America/New_York:20241215T180000
DTEND;TZID=America/New_York:20241215T200000
DTSTAMP:20260421T183236
CREATED:20240803T204049Z
LAST-MODIFIED:20240903T200157Z
UID:10004142-1734285600-1734292800@wearesalemchurch.com
SUMMARY:Trail Life & American Heritage Girls troop meeting
DESCRIPTION:
URL:https://wearesalemchurch.com/event/trail-life-american-heritage-girls-troop-meeting/2024-12-15/
LOCATION:Salem Church\, 2150 Old U.S. 22\, Lenhartsville\, Pennsylvania\, 19534\, United States
ATTACH;FMTTYPE=image/jpeg:https://wearesalemchurch.com/wp-content/uploads/2024/08/September-TLAHG-Grphic.jpg
END:VEVENT
BEGIN:VEVENT
DTSTART;TZID=America/New_York:20241201T180000
DTEND;TZID=America/New_York:20241201T200000
DTSTAMP:20260421T183236
CREATED:20240803T204049Z
LAST-MODIFIED:20240903T200157Z
UID:10004141-1733076000-1733083200@wearesalemchurch.com
SUMMARY:Trail Life & American Heritage Girls troop meeting
DESCRIPTION:
URL:https://wearesalemchurch.com/event/trail-life-american-heritage-girls-troop-meeting/2024-12-01/
LOCATION:Salem Church\, 2150 Old U.S. 22\, Lenhartsville\, Pennsylvania\, 19534\, United States
ATTACH;FMTTYPE=image/jpeg:https://wearesalemchurch.com/wp-content/uploads/2024/08/September-TLAHG-Grphic.jpg
END:VEVENT
BEGIN:VEVENT
DTSTART;TZID=America/New_York:20241117T180000
DTEND;TZID=America/New_York:20241117T200000
DTSTAMP:20260421T183236
CREATED:20240803T204049Z
LAST-MODIFIED:20240903T200157Z
UID:10004140-1731866400-1731873600@wearesalemchurch.com
SUMMARY:Trail Life & American Heritage Girls troop meeting
DESCRIPTION:
URL:https://wearesalemchurch.com/event/trail-life-american-heritage-girls-troop-meeting/2024-11-17/
LOCATION:Salem Church\, 2150 Old U.S. 22\, Lenhartsville\, Pennsylvania\, 19534\, United States
ATTACH;FMTTYPE=image/jpeg:https://wearesalemchurch.com/wp-content/uploads/2024/08/September-TLAHG-Grphic.jpg
END:VEVENT
BEGIN:VEVENT
DTSTART;TZID=America/New_York:20241103T180000
DTEND;TZID=America/New_York:20241103T200000
DTSTAMP:20260421T183236
CREATED:20240803T204049Z
LAST-MODIFIED:20240903T200157Z
UID:10004139-1730656800-1730664000@wearesalemchurch.com
SUMMARY:Trail Life & American Heritage Girls troop meeting
DESCRIPTION:
URL:https://wearesalemchurch.com/event/trail-life-american-heritage-girls-troop-meeting/2024-11-03/
LOCATION:Salem Church\, 2150 Old U.S. 22\, Lenhartsville\, Pennsylvania\, 19534\, United States
ATTACH;FMTTYPE=image/jpeg:https://wearesalemchurch.com/wp-content/uploads/2024/08/September-TLAHG-Grphic.jpg
END:VEVENT
BEGIN:VEVENT
DTSTART;TZID=America/New_York:20241020T180000
DTEND;TZID=America/New_York:20241020T200000
DTSTAMP:20260421T183236
CREATED:20240803T204049Z
LAST-MODIFIED:20240903T200157Z
UID:10004138-1729447200-1729454400@wearesalemchurch.com
SUMMARY:Trail Life & American Heritage Girls troop meeting
DESCRIPTION:
URL:https://wearesalemchurch.com/event/trail-life-american-heritage-girls-troop-meeting/2024-10-20/
LOCATION:Salem Church\, 2150 Old U.S. 22\, Lenhartsville\, Pennsylvania\, 19534\, United States
ATTACH;FMTTYPE=image/jpeg:https://wearesalemchurch.com/wp-content/uploads/2024/08/September-TLAHG-Grphic.jpg
END:VEVENT
BEGIN:VEVENT
DTSTART;TZID=America/New_York:20241006T180000
DTEND;TZID=America/New_York:20241006T200000
DTSTAMP:20260421T183236
CREATED:20240803T204049Z
LAST-MODIFIED:20240903T200157Z
UID:10004137-1728237600-1728244800@wearesalemchurch.com
SUMMARY:Trail Life & American Heritage Girls troop meeting
DESCRIPTION:
URL:https://wearesalemchurch.com/event/trail-life-american-heritage-girls-troop-meeting/2024-10-06/
LOCATION:Salem Church\, 2150 Old U.S. 22\, Lenhartsville\, Pennsylvania\, 19534\, United States
ATTACH;FMTTYPE=image/jpeg:https://wearesalemchurch.com/wp-content/uploads/2024/08/September-TLAHG-Grphic.jpg
END:VEVENT
BEGIN:VEVENT
DTSTART;TZID=America/New_York:20240929T180000
DTEND;TZID=America/New_York:20240929T200000
DTSTAMP:20260421T183236
CREATED:20240903T182540Z
LAST-MODIFIED:20240903T200226Z
UID:10004136-1727632800-1727640000@wearesalemchurch.com
SUMMARY:Trail Life & American Heritage Girls
DESCRIPTION:
URL:https://wearesalemchurch.com/event/trail-life-american-heritage-girls-troop-meeting-2/
LOCATION:Salem Church\, 2150 Old U.S. 22\, Lenhartsville\, Pennsylvania\, 19534\, United States
ATTACH;FMTTYPE=image/jpeg:https://wearesalemchurch.com/wp-content/uploads/2024/08/September-TLAHG-Grphic.jpg
END:VEVENT
END:VCALENDAR