BEGIN:VCALENDAR
VERSION:2.0
PRODID:-//Salem Church - ECPv6.15.20//NONSGML v1.0//EN
CALSCALE:GREGORIAN
METHOD:PUBLISH
X-WR-CALNAME:Salem Church
X-ORIGINAL-URL:https://wearesalemchurch.com
X-WR-CALDESC:Events for Salem Church
REFRESH-INTERVAL;VALUE=DURATION:PT1H
X-Robots-Tag:noindex
X-PUBLISHED-TTL:PT1H
BEGIN:VTIMEZONE
TZID:America/New_York
BEGIN:DAYLIGHT
TZOFFSETFROM:-0500
TZOFFSETTO:-0400
TZNAME:EDT
DTSTART:20220313T070000
END:DAYLIGHT
BEGIN:STANDARD
TZOFFSETFROM:-0400
TZOFFSETTO:-0500
TZNAME:EST
DTSTART:20221106T060000
END:STANDARD
BEGIN:DAYLIGHT
TZOFFSETFROM:-0500
TZOFFSETTO:-0400
TZNAME:EDT
DTSTART:20230312T070000
END:DAYLIGHT
BEGIN:STANDARD
TZOFFSETFROM:-0400
TZOFFSETTO:-0500
TZNAME:EST
DTSTART:20231105T060000
END:STANDARD
BEGIN:DAYLIGHT
TZOFFSETFROM:-0500
TZOFFSETTO:-0400
TZNAME:EDT
DTSTART:20240310T070000
END:DAYLIGHT
BEGIN:STANDARD
TZOFFSETFROM:-0400
TZOFFSETTO:-0500
TZNAME:EST
DTSTART:20241103T060000
END:STANDARD
END:VTIMEZONE
BEGIN:VEVENT
DTSTART;TZID=America/New_York:20230705T183000
DTEND;TZID=America/New_York:20230705T210000
DTSTAMP:20260423T091325
CREATED:20230507T184145Z
LAST-MODIFIED:20230507T184235Z
UID:10002776-1688581800-1688590800@wearesalemchurch.com
SUMMARY:Volleyball @ Edenburg Park
DESCRIPTION:All ages are welcome!  The group will meet at the Edenburg Park through the summer.  In case of rain\, the event is cancelled.
URL:https://wearesalemchurch.com/event/volleyball/2023-07-05/
LOCATION:Edenburg Park\, 302 Florence Ave\, Hamburg\, PA\, 19526\, United States
ORGANIZER;CN="Salem Church":MAILTO:wearesalemchurch@gmail.com
END:VEVENT
BEGIN:VEVENT
DTSTART;TZID=America/New_York:20230628T183000
DTEND;TZID=America/New_York:20230628T210000
DTSTAMP:20260423T091325
CREATED:20230507T184145Z
LAST-MODIFIED:20230507T184235Z
UID:10002775-1687977000-1687986000@wearesalemchurch.com
SUMMARY:Volleyball @ Edenburg Park
DESCRIPTION:All ages are welcome!  The group will meet at the Edenburg Park through the summer.  In case of rain\, the event is cancelled.
URL:https://wearesalemchurch.com/event/volleyball/2023-06-28/
LOCATION:Edenburg Park\, 302 Florence Ave\, Hamburg\, PA\, 19526\, United States
ORGANIZER;CN="Salem Church":MAILTO:wearesalemchurch@gmail.com
END:VEVENT
BEGIN:VEVENT
DTSTART;TZID=America/New_York:20230621T183000
DTEND;TZID=America/New_York:20230621T210000
DTSTAMP:20260423T091325
CREATED:20230507T184145Z
LAST-MODIFIED:20230507T184235Z
UID:10002774-1687372200-1687381200@wearesalemchurch.com
SUMMARY:Volleyball @ Edenburg Park
DESCRIPTION:All ages are welcome!  The group will meet at the Edenburg Park through the summer.  In case of rain\, the event is cancelled.
URL:https://wearesalemchurch.com/event/volleyball/2023-06-21/
LOCATION:Edenburg Park\, 302 Florence Ave\, Hamburg\, PA\, 19526\, United States
ORGANIZER;CN="Salem Church":MAILTO:wearesalemchurch@gmail.com
END:VEVENT
BEGIN:VEVENT
DTSTART;TZID=America/New_York:20230614T183000
DTEND;TZID=America/New_York:20230614T210000
DTSTAMP:20260423T091325
CREATED:20230507T184145Z
LAST-MODIFIED:20230507T184235Z
UID:10002773-1686767400-1686776400@wearesalemchurch.com
SUMMARY:Volleyball @ Edenburg Park
DESCRIPTION:All ages are welcome!  The group will meet at the Edenburg Park through the summer.  In case of rain\, the event is cancelled.
URL:https://wearesalemchurch.com/event/volleyball/2023-06-14/
LOCATION:Edenburg Park\, 302 Florence Ave\, Hamburg\, PA\, 19526\, United States
ORGANIZER;CN="Salem Church":MAILTO:wearesalemchurch@gmail.com
END:VEVENT
BEGIN:VEVENT
DTSTART;TZID=America/New_York:20230607T183000
DTEND;TZID=America/New_York:20230607T210000
DTSTAMP:20260423T091325
CREATED:20230507T184145Z
LAST-MODIFIED:20230507T184235Z
UID:10002772-1686162600-1686171600@wearesalemchurch.com
SUMMARY:Volleyball @ Edenburg Park
DESCRIPTION:All ages are welcome!  The group will meet at the Edenburg Park through the summer.  In case of rain\, the event is cancelled.
URL:https://wearesalemchurch.com/event/volleyball/2023-06-07/
LOCATION:Edenburg Park\, 302 Florence Ave\, Hamburg\, PA\, 19526\, United States
ORGANIZER;CN="Salem Church":MAILTO:wearesalemchurch@gmail.com
END:VEVENT
BEGIN:VEVENT
DTSTART;TZID=America/New_York:20230531T183000
DTEND;TZID=America/New_York:20230531T210000
DTSTAMP:20260423T091325
CREATED:20230507T184145Z
LAST-MODIFIED:20230507T184235Z
UID:10002771-1685557800-1685566800@wearesalemchurch.com
SUMMARY:Volleyball @ Edenburg Park
DESCRIPTION:All ages are welcome!  The group will meet at the Edenburg Park through the summer.  In case of rain\, the event is cancelled.
URL:https://wearesalemchurch.com/event/volleyball/2023-05-31/
LOCATION:Edenburg Park\, 302 Florence Ave\, Hamburg\, PA\, 19526\, United States
ORGANIZER;CN="Salem Church":MAILTO:wearesalemchurch@gmail.com
END:VEVENT
BEGIN:VEVENT
DTSTART;TZID=America/New_York:20230524T183000
DTEND;TZID=America/New_York:20230524T210000
DTSTAMP:20260423T091325
CREATED:20230507T184145Z
LAST-MODIFIED:20230507T184235Z
UID:10002770-1684953000-1684962000@wearesalemchurch.com
SUMMARY:Volleyball @ Edenburg Park
DESCRIPTION:All ages are welcome!  The group will meet at the Edenburg Park through the summer.  In case of rain\, the event is cancelled.
URL:https://wearesalemchurch.com/event/volleyball/2023-05-24/
LOCATION:Edenburg Park\, 302 Florence Ave\, Hamburg\, PA\, 19526\, United States
ORGANIZER;CN="Salem Church":MAILTO:wearesalemchurch@gmail.com
END:VEVENT
BEGIN:VEVENT
DTSTART;TZID=America/New_York:20230517T183000
DTEND;TZID=America/New_York:20230517T210000
DTSTAMP:20260423T091325
CREATED:20230507T184145Z
LAST-MODIFIED:20230507T184235Z
UID:10002769-1684348200-1684357200@wearesalemchurch.com
SUMMARY:Volleyball @ Edenburg Park
DESCRIPTION:All ages are welcome!  The group will meet at the Edenburg Park through the summer.  In case of rain\, the event is cancelled.
URL:https://wearesalemchurch.com/event/volleyball/2023-05-17/
LOCATION:Edenburg Park\, 302 Florence Ave\, Hamburg\, PA\, 19526\, United States
ORGANIZER;CN="Salem Church":MAILTO:wearesalemchurch@gmail.com
END:VEVENT
BEGIN:VEVENT
DTSTART;TZID=America/New_York:20230510T183000
DTEND;TZID=America/New_York:20230510T210000
DTSTAMP:20260423T091325
CREATED:20230507T184145Z
LAST-MODIFIED:20230507T184235Z
UID:10002768-1683743400-1683752400@wearesalemchurch.com
SUMMARY:Volleyball @ Edenburg Park
DESCRIPTION:All ages are welcome!  The group will meet at the Edenburg Park through the summer.  In case of rain\, the event is cancelled.
URL:https://wearesalemchurch.com/event/volleyball/2023-05-10/
LOCATION:Edenburg Park\, 302 Florence Ave\, Hamburg\, PA\, 19526\, United States
ORGANIZER;CN="Salem Church":MAILTO:wearesalemchurch@gmail.com
END:VEVENT
END:VCALENDAR