BEGIN:VCALENDAR
VERSION:2.0
PRODID:-//Salem Church - ECPv6.15.20//NONSGML v1.0//EN
CALSCALE:GREGORIAN
METHOD:PUBLISH
X-ORIGINAL-URL:https://wearesalemchurch.com
X-WR-CALDESC:Events for Salem Church
REFRESH-INTERVAL;VALUE=DURATION:PT1H
X-Robots-Tag:noindex
X-PUBLISHED-TTL:PT1H
BEGIN:VTIMEZONE
TZID:America/New_York
BEGIN:DAYLIGHT
TZOFFSETFROM:-0500
TZOFFSETTO:-0400
TZNAME:EDT
DTSTART:20240310T070000
END:DAYLIGHT
BEGIN:STANDARD
TZOFFSETFROM:-0400
TZOFFSETTO:-0500
TZNAME:EST
DTSTART:20241103T060000
END:STANDARD
BEGIN:DAYLIGHT
TZOFFSETFROM:-0500
TZOFFSETTO:-0400
TZNAME:EDT
DTSTART:20250309T070000
END:DAYLIGHT
BEGIN:STANDARD
TZOFFSETFROM:-0400
TZOFFSETTO:-0500
TZNAME:EST
DTSTART:20251102T060000
END:STANDARD
BEGIN:DAYLIGHT
TZOFFSETFROM:-0500
TZOFFSETTO:-0400
TZNAME:EDT
DTSTART:20260308T070000
END:DAYLIGHT
BEGIN:STANDARD
TZOFFSETFROM:-0400
TZOFFSETTO:-0500
TZNAME:EST
DTSTART:20261101T060000
END:STANDARD
END:VTIMEZONE
BEGIN:VEVENT
DTSTART;TZID=America/New_York:20251203T113000
DTEND;TZID=America/New_York:20251203T133000
DTSTAMP:20260422T040135
CREATED:20251115T212713Z
LAST-MODIFIED:20251115T212713Z
UID:10007935-1764761400-1764768600@wearesalemchurch.com
SUMMARY:Ladies Lunch Bunch
DESCRIPTION:All ladies are welcome to join the group at Fiore’s Italian Restaurant following Morning Bible Study.  Please sign up in the lobby to join.
URL:https://wearesalemchurch.com/event/ladies-lunch-bunch-19/
LOCATION:Fiore’s Italian Restaurant\, 401 Main St\, Shoemakersville\, PA\, 19555\, United States
ATTACH;FMTTYPE=image/jpeg:https://wearesalemchurch.com/wp-content/uploads/2025/11/2025-December-Ladies-Lunch-Bunch.jpg
ORGANIZER;CN="Salem Church":MAILTO:wearesalemchurch@gmail.com
END:VEVENT
BEGIN:VEVENT
DTSTART;TZID=America/New_York:20250716T113000
DTEND;TZID=America/New_York:20250716T130000
DTSTAMP:20260422T040135
CREATED:20250621T145210Z
LAST-MODIFIED:20250621T145210Z
UID:10005150-1752665400-1752670800@wearesalemchurch.com
SUMMARY:Ladies Lunch Bunch
DESCRIPTION:All ladies are welcome to join the group at Fiore’s Italian Restaurant following Morning Bible Study.  Please sign up in the lobby to join.
URL:https://wearesalemchurch.com/event/ladies-lunch-bunch-17/
LOCATION:Fiore’s Italian Restaurant\, 401 Main St\, Shoemakersville\, PA\, 19555\, United States
ATTACH;FMTTYPE=image/jpeg:https://wearesalemchurch.com/wp-content/uploads/2025/06/July-Ladies-Lunch-Bunch.jpg
ORGANIZER;CN="Salem Church":MAILTO:wearesalemchurch@gmail.com
END:VEVENT
BEGIN:VEVENT
DTSTART;TZID=America/New_York:20250409T113000
DTEND;TZID=America/New_York:20250409T130000
DTSTAMP:20260422T040135
CREATED:20250407T021607Z
LAST-MODIFIED:20250407T021607Z
UID:10005055-1744198200-1744203600@wearesalemchurch.com
SUMMARY:Ladies Lunch Bunch
DESCRIPTION:All ladies are welcome to join the group at Fiore’s Italian Restaurant following Morning Bible Study.  Please sign up in the lobby to join.
URL:https://wearesalemchurch.com/event/ladies-lunch-bunch-15/
LOCATION:Fiore’s Italian Restaurant\, 401 Main St\, Shoemakersville\, PA\, 19555\, United States
ATTACH;FMTTYPE=image/jpeg:https://wearesalemchurch.com/wp-content/uploads/2025/04/April-Ladies-Lunch-Bunch.jpg
ORGANIZER;CN="Salem Church":MAILTO:wearesalemchurch@gmail.com
END:VEVENT
BEGIN:VEVENT
DTSTART;TZID=America/New_York:20250115T113000
DTEND;TZID=America/New_York:20250115T130000
DTSTAMP:20260422T040135
CREATED:20250111T224442Z
LAST-MODIFIED:20250111T224442Z
UID:10004881-1736940600-1736946000@wearesalemchurch.com
SUMMARY:Ladies Lunch Bunch
DESCRIPTION:Ladies are welcome to join the group at Fiore’s Italian Restaurant following Morning Bible Study.  Please sign up in the lobby to join.
URL:https://wearesalemchurch.com/event/ladies-lunch-bunch-12/
LOCATION:Fiore’s Italian Restaurant\, 401 Main St\, Shoemakersville\, PA\, 19555\, United States
ATTACH;FMTTYPE=image/jpeg:https://wearesalemchurch.com/wp-content/uploads/2025/01/January-Ladies-Lunch-Bunch.jpg
ORGANIZER;CN="Salem Church":MAILTO:wearesalemchurch@gmail.com
END:VEVENT
END:VCALENDAR