BEGIN:VCALENDAR
VERSION:2.0
PRODID:-//Salem Church - ECPv6.15.20//NONSGML v1.0//EN
CALSCALE:GREGORIAN
METHOD:PUBLISH
X-WR-CALNAME:Salem Church
X-ORIGINAL-URL:https://wearesalemchurch.com
X-WR-CALDESC:Events for Salem Church
REFRESH-INTERVAL;VALUE=DURATION:PT1H
X-Robots-Tag:noindex
X-PUBLISHED-TTL:PT1H
BEGIN:VTIMEZONE
TZID:America/New_York
BEGIN:DAYLIGHT
TZOFFSETFROM:-0500
TZOFFSETTO:-0400
TZNAME:EDT
DTSTART:20230312T070000
END:DAYLIGHT
BEGIN:STANDARD
TZOFFSETFROM:-0400
TZOFFSETTO:-0500
TZNAME:EST
DTSTART:20231105T060000
END:STANDARD
BEGIN:DAYLIGHT
TZOFFSETFROM:-0500
TZOFFSETTO:-0400
TZNAME:EDT
DTSTART:20240310T070000
END:DAYLIGHT
BEGIN:STANDARD
TZOFFSETFROM:-0400
TZOFFSETTO:-0500
TZNAME:EST
DTSTART:20241103T060000
END:STANDARD
BEGIN:DAYLIGHT
TZOFFSETFROM:-0500
TZOFFSETTO:-0400
TZNAME:EDT
DTSTART:20250309T070000
END:DAYLIGHT
BEGIN:STANDARD
TZOFFSETFROM:-0400
TZOFFSETTO:-0500
TZNAME:EST
DTSTART:20251102T060000
END:STANDARD
END:VTIMEZONE
BEGIN:VEVENT
DTSTART;TZID=America/New_York:20240629T150000
DTEND;TZID=America/New_York:20240629T210000
DTSTAMP:20260423T000634
CREATED:20240623T193150Z
LAST-MODIFIED:20240623T193216Z
UID:10003884-1719673200-1719694800@wearesalemchurch.com
SUMMARY:Youth Group:  EC Youth Group Day
DESCRIPTION:The Youth Group (newly completed 5th graders are welcome!) will be attending the EC Youth Group Day on Saturday\, June 29th for an afternoon of fun\, connection and fellowship with EC Youth Groups across eastern PA.  There will be many activities\, dinner and bonfire\, cost is $5.  The van will leave at 3 PM\, permission slips are in the lobby or can be downloaded here:  https://wearesalemchurch.com/resources/  Invite a friend!
URL:https://wearesalemchurch.com/event/youth-group-ec-youth-group-day/
LOCATION:Good Picnic Ground\, Mohnton\, PA\, United States
ORGANIZER;CN="Salem Church":MAILTO:wearesalemchurch@gmail.com
END:VEVENT
END:VCALENDAR