BEGIN:VCALENDAR
VERSION:2.0
PRODID:-//Salem Church - ECPv6.15.20//NONSGML v1.0//EN
CALSCALE:GREGORIAN
METHOD:PUBLISH
X-ORIGINAL-URL:https://wearesalemchurch.com
X-WR-CALDESC:Events for Salem Church
REFRESH-INTERVAL;VALUE=DURATION:PT1H
X-Robots-Tag:noindex
X-PUBLISHED-TTL:PT1H
BEGIN:VTIMEZONE
TZID:America/New_York
BEGIN:DAYLIGHT
TZOFFSETFROM:-0500
TZOFFSETTO:-0400
TZNAME:EDT
DTSTART:20220313T070000
END:DAYLIGHT
BEGIN:STANDARD
TZOFFSETFROM:-0400
TZOFFSETTO:-0500
TZNAME:EST
DTSTART:20221106T060000
END:STANDARD
BEGIN:DAYLIGHT
TZOFFSETFROM:-0500
TZOFFSETTO:-0400
TZNAME:EDT
DTSTART:20230312T070000
END:DAYLIGHT
BEGIN:STANDARD
TZOFFSETFROM:-0400
TZOFFSETTO:-0500
TZNAME:EST
DTSTART:20231105T060000
END:STANDARD
BEGIN:DAYLIGHT
TZOFFSETFROM:-0500
TZOFFSETTO:-0400
TZNAME:EDT
DTSTART:20240310T070000
END:DAYLIGHT
BEGIN:STANDARD
TZOFFSETFROM:-0400
TZOFFSETTO:-0500
TZNAME:EST
DTSTART:20241103T060000
END:STANDARD
END:VTIMEZONE
BEGIN:VEVENT
DTSTART;TZID=America/New_York:20230707T180000
DTEND;TZID=America/New_York:20230707T213000
DTSTAMP:20260423T091203
CREATED:20230522T185626Z
LAST-MODIFIED:20230522T185933Z
UID:10003053-1688752800-1688765400@wearesalemchurch.com
SUMMARY:Youth Group:  Lorah's
DESCRIPTION:Kids in Youth Group (going into grades 6-12) are invited to go to Lorah’s for their Junk Car Race on Friday\, July 7.  The van will leave the church at 6:00 pm.  Kids will need a permission slip\, $10 and money for food.  The van will return to the church around 9:30 pm.  Sign up in the lobby if you are interested! \nhttps://www.lorahspulls.com/schedule
URL:https://wearesalemchurch.com/event/youth-group-lorahs-truck-tractor-pulls/
LOCATION:Lorah’s\, 4739 S Cypress Drive\, Walnutport\, PA\, 18088\, United States
ORGANIZER;CN="Salem Church":MAILTO:wearesalemchurch@gmail.com
END:VEVENT
END:VCALENDAR