BEGIN:VCALENDAR
VERSION:2.0
PRODID:-//Salem Church - ECPv6.15.20//NONSGML v1.0//EN
CALSCALE:GREGORIAN
METHOD:PUBLISH
X-WR-CALNAME:Salem Church
X-ORIGINAL-URL:https://wearesalemchurch.com
X-WR-CALDESC:Events for Salem Church
REFRESH-INTERVAL;VALUE=DURATION:PT1H
X-Robots-Tag:noindex
X-PUBLISHED-TTL:PT1H
BEGIN:VTIMEZONE
TZID:America/New_York
BEGIN:DAYLIGHT
TZOFFSETFROM:-0500
TZOFFSETTO:-0400
TZNAME:EDT
DTSTART:20230312T070000
END:DAYLIGHT
BEGIN:STANDARD
TZOFFSETFROM:-0400
TZOFFSETTO:-0500
TZNAME:EST
DTSTART:20231105T060000
END:STANDARD
BEGIN:DAYLIGHT
TZOFFSETFROM:-0500
TZOFFSETTO:-0400
TZNAME:EDT
DTSTART:20240310T070000
END:DAYLIGHT
BEGIN:STANDARD
TZOFFSETFROM:-0400
TZOFFSETTO:-0500
TZNAME:EST
DTSTART:20241103T060000
END:STANDARD
BEGIN:DAYLIGHT
TZOFFSETFROM:-0500
TZOFFSETTO:-0400
TZNAME:EDT
DTSTART:20250309T070000
END:DAYLIGHT
BEGIN:STANDARD
TZOFFSETFROM:-0400
TZOFFSETTO:-0500
TZNAME:EST
DTSTART:20251102T060000
END:STANDARD
END:VTIMEZONE
BEGIN:VEVENT
DTSTART;TZID=America/New_York:20240919T181500
DTEND;TZID=America/New_York:20240919T200000
DTSTAMP:20260422T155357
CREATED:20240728T193625Z
LAST-MODIFIED:20240903T194044Z
UID:10004066-1726769700-1726776000@wearesalemchurch.com
SUMMARY:LC Medical & Support Services (Life's Choices) Fundraising Banquet
DESCRIPTION:The LC Medical and Support (Life’s Choices) Fundraising Banquet will be held on Thursday\, September 19th at the Redner’s Event Center at the Reading Fightin’ Phils stadium.  For more information and to register\, use this link:  https://www.friendsoflc.org/banquet-2024  If you would like to sit at a Salem Church table\, use the drop down to select Salem Church as a Group Host. Contact the church office if you need help registering\, or if you have a preference to be seated with certain people for the event.  Deadline to register is August 19th.
URL:https://wearesalemchurch.com/event/lc-medical-support-services-lifes-choices-fundraising-banquet/
LOCATION:Reading Fightin’ Phils Stadium – Redners Event Center\, 1900 Centre Avenue\, Reading\, PA\, 19605
ATTACH;FMTTYPE=image/jpeg:https://wearesalemchurch.com/wp-content/uploads/2024/07/Copy-of-LC-Banquet-Save-the-Date.jpg
END:VEVENT
END:VCALENDAR