BEGIN:VCALENDAR
VERSION:2.0
PRODID:-//Salem Church - ECPv6.15.20//NONSGML v1.0//EN
CALSCALE:GREGORIAN
METHOD:PUBLISH
X-WR-CALNAME:Salem Church
X-ORIGINAL-URL:https://wearesalemchurch.com
X-WR-CALDESC:Events for Salem Church
REFRESH-INTERVAL;VALUE=DURATION:PT1H
X-Robots-Tag:noindex
X-PUBLISHED-TTL:PT1H
BEGIN:VTIMEZONE
TZID:America/New_York
BEGIN:DAYLIGHT
TZOFFSETFROM:-0500
TZOFFSETTO:-0400
TZNAME:EDT
DTSTART:20240310T070000
END:DAYLIGHT
BEGIN:STANDARD
TZOFFSETFROM:-0400
TZOFFSETTO:-0500
TZNAME:EST
DTSTART:20241103T060000
END:STANDARD
BEGIN:DAYLIGHT
TZOFFSETFROM:-0500
TZOFFSETTO:-0400
TZNAME:EDT
DTSTART:20250309T070000
END:DAYLIGHT
BEGIN:STANDARD
TZOFFSETFROM:-0400
TZOFFSETTO:-0500
TZNAME:EST
DTSTART:20251102T060000
END:STANDARD
BEGIN:DAYLIGHT
TZOFFSETFROM:-0500
TZOFFSETTO:-0400
TZNAME:EDT
DTSTART:20260308T070000
END:DAYLIGHT
BEGIN:STANDARD
TZOFFSETFROM:-0400
TZOFFSETTO:-0500
TZNAME:EST
DTSTART:20261101T060000
END:STANDARD
END:VTIMEZONE
BEGIN:VEVENT
DTSTART;TZID=America/New_York:20250202T150000
DTEND;TZID=America/New_York:20250202T180000
DTSTAMP:20260421T222201
CREATED:20250128T212353Z
LAST-MODIFIED:20250128T213820Z
UID:10004145-1738508400-1738519200@wearesalemchurch.com
SUMMARY:Trail Life & American Heritage Girls: Reading Royals
DESCRIPTION:TL/AHG families have the option to attend a Reading Royals Hockey Game at 3 PM.  Discount tickets are available\, see Cori or Jake Dixon for more information.  This event will be in place of the normal meeting. Please wear Class As for this event.
URL:https://wearesalemchurch.com/event/trail-life-american-heritage-girls-troop-meeting-3/
LOCATION:Santander Arena\, 700 Penn St\, Reading\, PA\, 19602\, United States
ATTACH;FMTTYPE=image/jpeg:https://wearesalemchurch.com/wp-content/uploads/2024/08/September-TLAHG-Grphic.jpg
END:VEVENT
END:VCALENDAR